BEGIN:VCALENDAR
VERSION:2.0
PRODID:-//Grow Internationals - ECPv6.15.20//NONSGML v1.0//EN
CALSCALE:GREGORIAN
METHOD:PUBLISH
X-ORIGINAL-URL:https://www.growinternationals.com
X-WR-CALDESC:Events for Grow Internationals
REFRESH-INTERVAL;VALUE=DURATION:PT1H
X-Robots-Tag:noindex
X-PUBLISHED-TTL:PT1H
BEGIN:VTIMEZONE
TZID:Europe/Stockholm
BEGIN:DAYLIGHT
TZOFFSETFROM:+0100
TZOFFSETTO:+0200
TZNAME:CEST
DTSTART:20240331T010000
END:DAYLIGHT
BEGIN:STANDARD
TZOFFSETFROM:+0200
TZOFFSETTO:+0100
TZNAME:CET
DTSTART:20241027T010000
END:STANDARD
BEGIN:DAYLIGHT
TZOFFSETFROM:+0100
TZOFFSETTO:+0200
TZNAME:CEST
DTSTART:20250330T010000
END:DAYLIGHT
BEGIN:STANDARD
TZOFFSETFROM:+0200
TZOFFSETTO:+0100
TZNAME:CET
DTSTART:20251026T010000
END:STANDARD
BEGIN:DAYLIGHT
TZOFFSETFROM:+0100
TZOFFSETTO:+0200
TZNAME:CEST
DTSTART:20260329T010000
END:DAYLIGHT
BEGIN:STANDARD
TZOFFSETFROM:+0200
TZOFFSETTO:+0100
TZNAME:CET
DTSTART:20261025T010000
END:STANDARD
END:VTIMEZONE
BEGIN:VEVENT
DTSTART;TZID=Europe/Stockholm:20250517T110000
DTEND;TZID=Europe/Stockholm:20250517T150000
DTSTAMP:20260424T031859
CREATED:20250409T094732Z
LAST-MODIFIED:20250425T105638Z
UID:27552-1747479600-1747494000@www.growinternationals.com
SUMMARY:Stockholm: Family Meet-Up at 4H farm 
DESCRIPTION:Looking for a family outdoor event that everyone can enjoy? Join us on May 17th for a fun gathering at Augustendals 4H farm located in Solna- a perfect spot for expat families to connect and enjoy the day!\n\nAugustendals 4H offers a beautiful playground with a lovely view of the lake Mälaren where the kids can play and explore while parents have the chance to socialize and share experiences. Whether you are looking for support\, a good chat\, or just some time to unwind\, this is a great opportunity to connect with other parents from the international community. \nNote that while the event is free\, participants cover their own costs for food and drinks. Feel free to bring your own picnic lunch or refreshments. There is also a nearby ice cream place offering refreshments and sweet treats. \nSimply RSVP by May 15th in the event to join us and get more details! \nWe look forward to seeing you there!
URL:https://www.growinternationals.com/event/stockholm-family-meet-up-at-4h-farm/
LOCATION:Augustendal\, Huvudsta Allé\, Stockholm\, 171 73
CATEGORIES:Grow Social
ATTACH;FMTTYPE=image/png:https://www.growinternationals.com/wp-content/uploads/2025/04/0B17F134-AB08-43F9-9DCD-142C2FC3EEC9.png
END:VEVENT
END:VCALENDAR