BEGIN:VCALENDAR
VERSION:2.0
PRODID:-//Grow Internationals - ECPv6.15.20//NONSGML v1.0//EN
CALSCALE:GREGORIAN
METHOD:PUBLISH
X-WR-CALNAME:Grow Internationals
X-ORIGINAL-URL:https://www.growinternationals.com
X-WR-CALDESC:Events for Grow Internationals
REFRESH-INTERVAL;VALUE=DURATION:PT1H
X-Robots-Tag:noindex
X-PUBLISHED-TTL:PT1H
BEGIN:VTIMEZONE
TZID:Europe/Stockholm
BEGIN:DAYLIGHT
TZOFFSETFROM:+0100
TZOFFSETTO:+0200
TZNAME:CEST
DTSTART:20240331T010000
END:DAYLIGHT
BEGIN:STANDARD
TZOFFSETFROM:+0200
TZOFFSETTO:+0100
TZNAME:CET
DTSTART:20241027T010000
END:STANDARD
BEGIN:DAYLIGHT
TZOFFSETFROM:+0100
TZOFFSETTO:+0200
TZNAME:CEST
DTSTART:20250330T010000
END:DAYLIGHT
BEGIN:STANDARD
TZOFFSETFROM:+0200
TZOFFSETTO:+0100
TZNAME:CET
DTSTART:20251026T010000
END:STANDARD
BEGIN:DAYLIGHT
TZOFFSETFROM:+0100
TZOFFSETTO:+0200
TZNAME:CEST
DTSTART:20260329T010000
END:DAYLIGHT
BEGIN:STANDARD
TZOFFSETFROM:+0200
TZOFFSETTO:+0100
TZNAME:CET
DTSTART:20261025T010000
END:STANDARD
END:VTIMEZONE
BEGIN:VEVENT
DTSTART;TZID=Europe/Stockholm:20251020T160000
DTEND;TZID=Europe/Stockholm:20251020T170000
DTSTAMP:20260423T180405
CREATED:20251002T130727Z
LAST-MODIFIED:20251002T130727Z
UID:28087-1760976000-1760979600@www.growinternationals.com
SUMMARY:Uppsala: Getting your Swedish Driving Licence (online seminar)
DESCRIPTION:In this seminar\, we welcome Investigator Ted Snölilja from Transportstyrelsen (The Swedish Transport Agency) to go through the basic knowledge required for obtaining a Swedish driver’s license. \n  \nAmong the topics to be covered are: \n– Laws and regulations related to driving in Sweden. \n– What you need to know if you plan to buy\, lease or rent a car. \n\n  – The process for getting a Swedish driver’s license based on citizenship.\n \n  \n\n  We begin with a presentation and then open up for questions.\n \nImportant note: this is an online seminar\, and the meeting link will be sent upon registration. \n  \nWarm welcome! Remember to register for the event here!
URL:https://www.growinternationals.com/event/uppsala-getting-your-swedish-driving-licence-online-seminar/
LOCATION:Confirmed via mail
CATEGORIES:Uppsala
ATTACH;FMTTYPE=image/jpeg:https://www.growinternationals.com/wp-content/uploads/2025/10/Drivers-license.png
END:VEVENT
END:VCALENDAR