BEGIN:VCALENDAR
VERSION:2.0
PRODID:-//Grow Internationals - ECPv6.15.20//NONSGML v1.0//EN
CALSCALE:GREGORIAN
METHOD:PUBLISH
X-WR-CALNAME:Grow Internationals
X-ORIGINAL-URL:https://www.growinternationals.com
X-WR-CALDESC:Events for Grow Internationals
REFRESH-INTERVAL;VALUE=DURATION:PT1H
X-Robots-Tag:noindex
X-PUBLISHED-TTL:PT1H
BEGIN:VTIMEZONE
TZID:Europe/Stockholm
BEGIN:DAYLIGHT
TZOFFSETFROM:+0100
TZOFFSETTO:+0200
TZNAME:CEST
DTSTART:20250330T010000
END:DAYLIGHT
BEGIN:STANDARD
TZOFFSETFROM:+0200
TZOFFSETTO:+0100
TZNAME:CET
DTSTART:20251026T010000
END:STANDARD
BEGIN:DAYLIGHT
TZOFFSETFROM:+0100
TZOFFSETTO:+0200
TZNAME:CEST
DTSTART:20260329T010000
END:DAYLIGHT
BEGIN:STANDARD
TZOFFSETFROM:+0200
TZOFFSETTO:+0100
TZNAME:CET
DTSTART:20261025T010000
END:STANDARD
BEGIN:DAYLIGHT
TZOFFSETFROM:+0100
TZOFFSETTO:+0200
TZNAME:CEST
DTSTART:20270328T010000
END:DAYLIGHT
BEGIN:STANDARD
TZOFFSETFROM:+0200
TZOFFSETTO:+0100
TZNAME:CET
DTSTART:20271031T010000
END:STANDARD
END:VTIMEZONE
BEGIN:VEVENT
DTSTART;TZID=Europe/Stockholm:20260424T180000
DTEND;TZID=Europe/Stockholm:20260424T210000
DTSTAMP:20260424T044359
CREATED:20260213T131559Z
LAST-MODIFIED:20260213T131559Z
UID:28676-1777053600-1777064400@www.growinternationals.com
SUMMARY:Stockholm: Grow After Work
DESCRIPTION:Join Us for Grow Internationals’ Monthly After Work – Connect and Unwind! \nTake a break\, meet new people\, and enjoy a relaxed evening with the Grow Internationals community on Friday\, April 24\, right in the heart of Stockholm. \nThis is a welcoming gathering where internationals and locals come together to chat\, connect\, and ease into the weekend. Whether you’re joining with friends or on your own\, you’ll find a warm atmosphere and plenty of opportunities to meet new people. \nSign up using the form below to reserve your spot and receive full event details\, including the final venue. \n❗ Attendance is free\, though everyone is responsible for their own food and drinks. \nCome share good conversations\, make connections\, and unwind with Grow Internationals. \nWe’d love to see you there!
URL:https://www.growinternationals.com/event/stockholm-grow-after-work-11/
LOCATION:TBA
CATEGORIES:Grow Social
ATTACH;FMTTYPE=image/jpeg:https://www.growinternationals.com/wp-content/uploads/2019/04/AfterWork_grupp_skålar-Grow.jpg
END:VEVENT
END:VCALENDAR